BEGIN:VCALENDAR
VERSION:2.0
PRODID:-//Tukios.com/
BEGIN:VEVENT
UID:05c45956-4822-4450-a672-889586cf9d11@www.jamesakirklandmortuary.com
DTSTAMP:20260421T180032Z
DTSTART:20260424T170000Z
DTEND:20260424T230000Z
SUMMARY:Visitation starting at 1:00 p.m. and wake starting at 6:00 p.m. 
	ending at 7:00 p.m. on Friday, April 24th, 2026, at James A. Kirkland 
	Mortuary.
DESCRIPTION:
URL:https://www.jamesakirklandmortuary.com/obituaries/mary-lou-reynolds
LOCATION: 135 N Gray St  Millen GA 30442
GEO:32.8029899;-81.9413946
END:VEVENT
END:VCALENDAR