BEGIN:VCALENDAR
VERSION:2.0
PRODID:-//Tukios.com/
BEGIN:VEVENT
UID:221dc65d-7393-4a47-9e03-2e8292968c95@www.jamesakirklandmortuary.com
DTSTAMP:20260421T180323Z
DTSTART:20260425T143000Z
DTEND:20260425T163000Z
SUMMARY:Celebration of Life
DESCRIPTION:
URL:https://www.jamesakirklandmortuary.com/obituaries/mary-lou-reynolds
LOCATION: 4703 U.S. 25  Millen GA 30442
GEO:32.7000995;-81.9619423
END:VEVENT
END:VCALENDAR